BEGIN:VCALENDAR
VERSION:2.0
PRODID:-//Tukios.com/
BEGIN:VEVENT
UID:e3353690-bedc-44eb-a1df-17241aba1c1f@www.cookrosenberger.com
DTSTAMP:20260425T020354Z
DTSTART:20260503T180000Z
DTEND:20260503T210000Z
SUMMARY:Visitation
DESCRIPTION:
URL:https://www.cookrosenberger.com/obituaries/hayden-koger
LOCATION:Metamora Church of God 20146 U.S. 52  Laurel IN 47024
GEO:39.4493518;-85.1515274
END:VEVENT
END:VCALENDAR