BEGIN:VCALENDAR
VERSION:2.0
PRODID:-//Tukios.com/
BEGIN:VEVENT
UID:ae1b9944-e04c-47cf-89f3-dcd578db6545@www.cookrosenberger.com
DTSTAMP:20260425T020645Z
DTSTART:20260503T210000Z
DTEND:20260503T220000Z
SUMMARY:Memorial Service
DESCRIPTION:
URL:https://www.cookrosenberger.com/obituaries/hayden-koger
LOCATION:Metamora Church of God 20146 U.S. 52  Laurel IN 47024
GEO:39.4493518;-85.1515274
END:VEVENT
END:VCALENDAR