BEGIN:VCALENDAR
VERSION:2.0
PRODID:-//Tukios.com/
BEGIN:VEVENT
UID:9d4ac634-18a8-4033-9a62-1d573b5b249c@www.cookrosenberger.com
DTSTAMP:20260420T232540Z
DTSTART:20260425T120000Z
DTEND:20260425T121500Z
SUMMARY:Holy Rosary
DESCRIPTION:
URL:https://www.cookrosenberger.com/obituaries/robert-nau
LOCATION: 929 Main St  Brookville IN 47012
GEO:39.4248996;-85.0123307
END:VEVENT
END:VCALENDAR