BEGIN:VCALENDAR
VERSION:2.0
PRODID:-//Tukios.com/
BEGIN:VEVENT
UID:8abe6026-4764-4de0-b9a4-d3e9fdacea27@www.cookrosenberger.com
DTSTAMP:20260420T232705Z
DTSTART:20260425T123000Z
DTEND:20260425T140000Z
SUMMARY:Visitation
DESCRIPTION:
URL:https://www.cookrosenberger.com/obituaries/robert-nau
LOCATION:Cook Rosenberger Funeral Home 929 Main St  Brookville IN 47012
GEO:39.4248996;-85.0123307
END:VEVENT
END:VCALENDAR