BEGIN:VCALENDAR
VERSION:2.0
PRODID:-//Tukios.com/
BEGIN:VEVENT
UID:84c4b1cd-9ea7-43ae-93fa-67d10f8561c8@www.cookrosenberger.com
DTSTAMP:20260420T232331Z
DTSTART:20260425T143000Z
DTEND:20260425T153000Z
SUMMARY:Mass of Christian Burial
DESCRIPTION:
URL:https://www.cookrosenberger.com/obituaries/robert-nau
LOCATION: 145 East Saint Michaels Boulevard  Brookville IN 47012
GEO:39.4165803;-85.0100675
END:VEVENT
END:VCALENDAR